BEGIN:VCALENDAR
METHOD:PUBLISH
VERSION:2.0
X-WR-CALNAME:ATTAevents2020
PRODID:-//Apple Inc.//Mac OS X 10.14.6//EN
X-APPLE-CALENDAR-COLOR:#F94A0C
X-WR-TIMEZONE:Australia/Perth
CALSCALE:GREGORIAN
BEGIN:VTIMEZONE
TZID:Australia/Perth
BEGIN:DAYLIGHT
TZOFFSETFROM:+0800
RRULE:FREQ=YEARLY;UNTIL=20081025T180000Z;BYMONTH=10;BYDAY=-1SU
DTSTART:20071028T020000
TZNAME:AWDT
TZOFFSETTO:+0900
END:DAYLIGHT
BEGIN:STANDARD
TZOFFSETFROM:+0900
DTSTART:20090329T030000
TZNAME:AWST
TZOFFSETTO:+0800
END:STANDARD
END:VTIMEZONE
BEGIN:VEVENT
TRANSP:OPAQUE
DTEND;TZID=Australia/Perth:20191124T103000
UID:C901E385-85D2-4135-BE78-72B506900C77
DTSTAMP:20181214T080658Z
LOCATION:Champion Lakes Regatta Centre
DESCRIPTION:20km ITT 
URL;VALUE=URI:https://atta.asn.au/forms/pre_reg_CLRC.php?e=Short,%2520sh
 arp%252020&d=2019-11-24
SEQUENCE:0
SUMMARY:Short\, sharp 20
LAST-MODIFIED:20191015T141440Z
DTSTART;TZID=Australia/Perth:20191124T073000
CREATED:20181214T080643Z
X-APPLE-TRAVEL-ADVISORY-BEHAVIOR:AUTOMATIC
END:VEVENT
BEGIN:VEVENT
TRANSP:OPAQUE
DTEND;TZID=Australia/Perth:20191105T083000
UID:963251B7-0AFB-4C70-BD64-370B863889CD
DTSTAMP:20190501T041557Z
LOCATION:Kings Park\, WA\, Australia
DESCRIPTION:eb1_20
URL;VALUE=URI:https://www.registernow.com.au/secure/Register.aspx?E=3588
 0
SEQUENCE:0
SUMMARY:Early-bird 1-20
LAST-MODIFIED:20191015T141221Z
DTSTART;TZID=Australia/Perth:20191105T060000
CREATED:20190501T041513Z
X-APPLE-TRAVEL-ADVISORY-BEHAVIOR:AUTOMATIC
END:VEVENT
BEGIN:VEVENT
TRANSP:OPAQUE
DTEND;TZID=Australia/Perth:20191119T083000
UID:45DC40AA-7D3F-424A-9890-7114BA3C1507
DTSTAMP:20190501T044702Z
LOCATION:Kings Park\, WA\, Australia
DESCRIPTION:eb2_20
URL;VALUE=URI:https://www.registernow.com.au/secure/Register.aspx?E=3588
 2
SEQUENCE:0
SUMMARY:Early-bird 2-20
LAST-MODIFIED:20191015T141411Z
DTSTART;TZID=Australia/Perth:20191119T060000
CREATED:20190501T044702Z
X-APPLE-TRAVEL-ADVISORY-BEHAVIOR:AUTOMATIC
END:VEVENT
BEGIN:VEVENT
TRANSP:OPAQUE
DTEND;TZID=Australia/Perth:20191203T083000
UID:B1E9D5E0-60B1-4924-B49B-FCC933722C10
DTSTAMP:20190501T044741Z
LOCATION:Kings Park\, WA\, Australia
DESCRIPTION:eb3_20
URL;VALUE=URI:https://www.registernow.com.au/secure/Register.aspx?E=3588
 3
SEQUENCE:0
SUMMARY:Early-bird 3-20
LAST-MODIFIED:20191015T141509Z
DTSTART;TZID=Australia/Perth:20191203T060000
CREATED:20190501T044741Z
X-APPLE-TRAVEL-ADVISORY-BEHAVIOR:AUTOMATIC
END:VEVENT
BEGIN:VEVENT
TRANSP:OPAQUE
DTEND;TZID=Australia/Perth:20191217T083000
UID:399D2CA7-EFF0-4E4C-907D-5D48DED6292C
DTSTAMP:20190501T044804Z
LOCATION:Kings Park\, WA\, Australia
DESCRIPTION:eb4_20
URL;VALUE=URI:https://www.registernow.com.au/secure/Register.aspx?E=3588
 4
SEQUENCE:0
SUMMARY:Early-bird 4-20
LAST-MODIFIED:20191015T141624Z
DTSTART;TZID=Australia/Perth:20191217T060000
CREATED:20190501T044804Z
X-APPLE-TRAVEL-ADVISORY-BEHAVIOR:AUTOMATIC
END:VEVENT
BEGIN:VEVENT
TRANSP:OPAQUE
DTEND;TZID=Australia/Perth:20191231T083000
UID:F0AC9221-B85A-4559-A157-EB59D55F3A4F
DTSTAMP:20190501T044831Z
LOCATION:Kings Park\, WA\, Australia
DESCRIPTION:eb5_20
URL;VALUE=URI:https://www.registernow.com.au/secure/Register.aspx?E=3588
 5
SEQUENCE:0
SUMMARY:Early-bird 5-20
LAST-MODIFIED:20191015T141942Z
DTSTART;TZID=Australia/Perth:20191231T060000
CREATED:20190501T044831Z
X-APPLE-TRAVEL-ADVISORY-BEHAVIOR:AUTOMATIC
END:VEVENT
BEGIN:VEVENT
TRANSP:OPAQUE
DTEND;TZID=Australia/Perth:20200107T083000
UID:AF7FAB68-DA33-4D45-8750-13E2FB69190E
DTSTAMP:20190501T044919Z
LOCATION:Kings Park\, WA\, Australia
DESCRIPTION:eb6_20
URL;VALUE=URI:https://www.registernow.com.au/secure/Register.aspx?E=3588
 6
SEQUENCE:0
SUMMARY:Early-bird 6-20
LAST-MODIFIED:20191015T142023Z
DTSTART;TZID=Australia/Perth:20200107T060000
CREATED:20190501T044919Z
X-APPLE-TRAVEL-ADVISORY-BEHAVIOR:AUTOMATIC
END:VEVENT
BEGIN:VEVENT
TRANSP:OPAQUE
DTEND;TZID=Australia/Perth:20200121T083000
UID:51896488-BE92-4F52-B87C-33F81FDC7B5F
DTSTAMP:20190501T044938Z
LOCATION:Kings Park\, WA\, Australia
DESCRIPTION:eb7_20
URL;VALUE=URI:https://www.registernow.com.au/secure/Register.aspx?E=3588
 7
SEQUENCE:0
SUMMARY:Early-bird 7-20
LAST-MODIFIED:20191015T142051Z
DTSTART;TZID=Australia/Perth:20200121T060000
CREATED:20190501T044938Z
X-APPLE-TRAVEL-ADVISORY-BEHAVIOR:AUTOMATIC
END:VEVENT
BEGIN:VEVENT
TRANSP:OPAQUE
DTEND;TZID=Australia/Perth:20191103T113000
UID:58066178-0F52-4A01-B806-1EFB75CEA6F5
DTSTAMP:20190717T022950Z
LOCATION:Gidge 'A'
DESCRIPTION:hilly1_20\nOpening event of Summer season 2019-20
URL;VALUE=URI:https://www.registernow.com.au/secure/Register.aspx?E=3598
 1
SEQUENCE:0
SUMMARY:Hilly Classic 1
LAST-MODIFIED:20191015T141148Z
DTSTART;TZID=Australia/Perth:20191103T073000
CREATED:20190717T022750Z
X-APPLE-TRAVEL-ADVISORY-BEHAVIOR:AUTOMATIC
END:VEVENT
BEGIN:VEVENT
TRANSP:OPAQUE
DTEND;TZID=Australia/Perth:20200410T103000
UID:513450D0-EA97-4F58-92C6-E7A0CD402591
DTSTAMP:20190717T025205Z
LOCATION:CLRC
DESCRIPTION:chlakes4_20
URL;VALUE=URI:https://atta.asn.au/program.html
SEQUENCE:0
SUMMARY:Good Friday 20
LAST-MODIFIED:20190717T025725Z
DTSTART;TZID=Australia/Perth:20200410T073000
CREATED:20190717T025127Z
X-APPLE-TRAVEL-ADVISORY-BEHAVIOR:AUTOMATIC
END:VEVENT
BEGIN:VEVENT
TRANSP:OPAQUE
DTEND;TZID=Australia/Perth:20200413T110000
UID:0045FBFC-A54E-4DD5-9F5C-E32325B1E6AD
DTSTAMP:20190717T025301Z
LOCATION:Gidgegannup 'C'
DESCRIPTION:hilly7_20
SEQUENCE:0
X-APPLE-TRAVEL-ADVISORY-BEHAVIOR:AUTOMATIC
SUMMARY:Hilly Classic 7
LAST-MODIFIED:20190717T025547Z
CREATED:20190717T025249Z
DTSTART;TZID=Australia/Perth:20200413T080000
END:VEVENT
BEGIN:VEVENT
TRANSP:OPAQUE
DTEND;TZID=Australia/Perth:20200315T101500
UID:04CE227C-56BC-4873-8E05-E6B3278E15AE
DTSTAMP:20190717T025456Z
LOCATION:Wandi
DESCRIPTION:40ch_20\n25km Option\n
URL;VALUE=URI:https://atta.asn.au/program.html
SEQUENCE:0
SUMMARY:WA 40km ITT Championships
LAST-MODIFIED:20190718T040224Z
DTSTART;TZID=Australia/Perth:20200315T071500
CREATED:20190717T025436Z
X-APPLE-TRAVEL-ADVISORY-BEHAVIOR:AUTOMATIC
END:VEVENT
BEGIN:VEVENT
TRANSP:OPAQUE
DTEND;TZID=Australia/Perth:20200329T110000
UID:3DBCCE9E-D91B-47EF-9A15-E5866A6DE542
DTSTAMP:20190717T025715Z
LOCATION:Wandi
DESCRIPTION:80ch_20\n25km\; 42km options
URL;VALUE=URI:https://atta.asn.au/program.html
SEQUENCE:0
SUMMARY:WA 80km ITT Championships
LAST-MODIFIED:20190718T040233Z
DTSTART;TZID=Australia/Perth:20200329T073000
CREATED:20190717T025616Z
X-APPLE-TRAVEL-ADVISORY-BEHAVIOR:AUTOMATIC
END:VEVENT
BEGIN:VEVENT
TRANSP:OPAQUE
DTEND;TZID=Australia/Perth:20200510T090000
UID:0508A82D-5CCB-4D59-8B66-5205BB6F2674
DTSTAMP:20190717T030349Z
LOCATION:Champion Lakes
DESCRIPTION:chlakes5_20
URL;VALUE=URI:https://atta.asn.au/program.html
SEQUENCE:0
SUMMARY:Season Close 20
LAST-MODIFIED:20190717T030349Z
DTSTART;TZID=Australia/Perth:20200510T080000
CREATED:20190717T030248Z
X-APPLE-TRAVEL-ADVISORY-BEHAVIOR:AUTOMATIC
END:VEVENT
BEGIN:VEVENT
TRANSP:OPAQUE
DTEND;TZID=Australia/Perth:20200419T130000
UID:1C37E71C-5F8A-43AD-B5F3-8661EF7BB311
DTSTAMP:20190717T030530Z
LOCATION:Pinjarra
DESCRIPTION:160ch_20\n46km\; 92km options
URL;VALUE=URI:https://atta.asn.au/program.html
SEQUENCE:0
SUMMARY:WA 160km ITT Championships
LAST-MODIFIED:20190717T063647Z
DTSTART;TZID=Australia/Perth:20200419T073000
CREATED:20190717T030506Z
X-APPLE-TRAVEL-ADVISORY-BEHAVIOR:AUTOMATIC
END:VEVENT
BEGIN:VEVENT
TRANSP:OPAQUE
DTEND;TZID=Australia/Perth:20200126T100000
UID:FE88CCDD-8996-43C7-B9A2-31EFE39D3378
DTSTAMP:20190717T030753Z
LOCATION:Kelmscott
DESCRIPTION:hc_20
URL;VALUE=URI:https://atta.asn.au/program.html
SEQUENCE:0
SUMMARY:Hillclimb Championships
LAST-MODIFIED:20190717T045146Z
DTSTART;TZID=Australia/Perth:20200126T070000
CREATED:20190717T030716Z
X-APPLE-TRAVEL-ADVISORY-BEHAVIOR:AUTOMATIC
END:VEVENT
BEGIN:VEVENT
TRANSP:OPAQUE
DTEND;TZID=Australia/Perth:20200125T090000
UID:A75CF298-B282-4A8A-99EC-129F2D17A588
DTSTAMP:20190717T030853Z
LOCATION:Kings Park\, WA\, Australia
DESCRIPTION:
SEQUENCE:0
X-APPLE-TRAVEL-ADVISORY-BEHAVIOR:AUTOMATIC
SUMMARY:Early-bird Presentations
LAST-MODIFIED:20190717T030853Z
CREATED:20190717T030815Z
DTSTART;TZID=Australia/Perth:20200125T080000
END:VEVENT
BEGIN:VEVENT
TRANSP:OPAQUE
DTEND;TZID=Australia/Perth:20191222T103000
UID:7F38BCDD-4A79-41B8-A9C3-332ED8795FAE
DTSTAMP:20190717T032726Z
LOCATION:Chidlow-Wundowie
DESCRIPTION:hilly3_20
URL;VALUE=URI:https://www.registernow.com.au/secure/Register.aspx?E=3598
 4
SEQUENCE:0
SUMMARY:Hilly Classic 3\n
LAST-MODIFIED:20191015T141706Z
DTSTART;TZID=Australia/Perth:20191222T073000
CREATED:20190717T032651Z
X-APPLE-TRAVEL-ADVISORY-BEHAVIOR:AUTOMATIC
END:VEVENT
BEGIN:VEVENT
TRANSP:OPAQUE
DTEND;TZID=Australia/Perth:20191208T103000
UID:C09F1A29-B447-4394-8FF8-7A113D5C7866
DTSTAMP:20190717T033043Z
LOCATION:Chidlow | Bailup
DESCRIPTION:hilly2_20
URL;VALUE=URI:https://www.registernow.com.au/secure/Register.aspx?E=3598
 3
SEQUENCE:0
SUMMARY:Hilly Classic 2
LAST-MODIFIED:20191015T141533Z
DTSTART;TZID=Australia/Perth:20191208T073000
CREATED:20190717T032904Z
X-APPLE-TRAVEL-ADVISORY-BEHAVIOR:AUTOMATIC
END:VEVENT
BEGIN:VEVENT
TRANSP:OPAQUE
DTEND;TZID=Australia/Perth:20191117T103000
UID:6CCF596F-A352-4C80-8969-D8853B080283
DTSTAMP:20190717T033315Z
LOCATION:Serpentine
DESCRIPTION:serp11_20\n20km option
URL;VALUE=URI:https://atta.asn.au/forms/pre_reg_serp40.php?e=Serpentine%
 252040&d=2019-11-17
SEQUENCE:0
SUMMARY:Serpentine 40
LAST-MODIFIED:20191015T141343Z
DTSTART;TZID=Australia/Perth:20191117T073000
CREATED:20190717T033244Z
X-APPLE-TRAVEL-ADVISORY-BEHAVIOR:AUTOMATIC
END:VEVENT
BEGIN:VEVENT
TRANSP:OPAQUE
DTEND;TZID=Australia/Perth:20200112T103000
UID:1AD5C482-5615-46AD-AF76-D3EA1627F582
DTSTAMP:20190717T034136Z
LOCATION:Pinjarra
DESCRIPTION:pinj1_20\nNo 80km option this event
URL;VALUE=URI:https://atta.asn.au/program.html
SEQUENCE:0
SUMMARY:Pinjarra 46
LAST-MODIFIED:20190717T050544Z
DTSTART;TZID=Australia/Perth:20200112T073000
CREATED:20190717T033513Z
X-APPLE-TRAVEL-ADVISORY-BEHAVIOR:AUTOMATIC
END:VEVENT
BEGIN:VEVENT
TRANSP:OPAQUE
DTEND;TZID=Australia/Perth:20200308T110000
UID:77C869E5-BC95-4BFD-AC8C-EFC02CEE18AB
DTSTAMP:20190717T034222Z
LOCATION:CLRC
DESCRIPTION:chlakes2_20\n10km\; 15km\; 40km options
URL;VALUE=URI:https://atta.asn.au/program.html
SEQUENCE:0
SUMMARY:Lakes Day 25k
LAST-MODIFIED:20190718T040302Z
DTSTART;TZID=Australia/Perth:20200308T073000
CREATED:20190717T034201Z
X-APPLE-TRAVEL-ADVISORY-BEHAVIOR:AUTOMATIC
END:VEVENT
BEGIN:VEVENT
TRANSP:OPAQUE
DTEND;TZID=Australia/Perth:20200216T103000
UID:FED14B1F-2542-4830-91D2-9677FD3E9823
DTSTAMP:20190717T034254Z
LOCATION:Chidlow 'B'
DESCRIPTION:hilly5_20\n
URL;VALUE=URI:https://atta.asn.au/program.html
SEQUENCE:0
SUMMARY:Hilly Classic 5
LAST-MODIFIED:20190717T045222Z
DTSTART;TZID=Australia/Perth:20200216T073000
CREATED:20190717T034253Z
X-APPLE-TRAVEL-ADVISORY-BEHAVIOR:AUTOMATIC
END:VEVENT
BEGIN:VEVENT
TRANSP:OPAQUE
DTEND;TZID=Australia/Perth:20200209T103000
UID:10487848-23E4-442E-B61F-D346831682BA
DTSTAMP:20190717T044444Z
LOCATION:Herne Hill
DESCRIPTION:hh2_20
URL;VALUE=URI:https://atta.asn.au/program.html
SEQUENCE:0
SUMMARY:Herne Hill 40
LAST-MODIFIED:20190717T044444Z
DTSTART;TZID=Australia/Perth:20200209T073000
CREATED:20190717T044406Z
X-APPLE-TRAVEL-ADVISORY-BEHAVIOR:AUTOMATIC
END:VEVENT
BEGIN:VEVENT
TRANSP:OPAQUE
DTEND;TZID=Australia/Perth:20200301T101500
UID:9BE65B74-9498-437E-B165-B756996460D3
DTSTAMP:20190717T050109Z
LOCATION:Chidlow 'C'
DESCRIPTION:hilly6_20\n22km option\n
SEQUENCE:0
X-APPLE-TRAVEL-ADVISORY-BEHAVIOR:AUTOMATIC
SUMMARY:Hilly Classic 6
LAST-MODIFIED:20190718T041509Z
CREATED:20190717T050011Z
DTSTART;TZID=Australia/Perth:20200301T071500
END:VEVENT
BEGIN:VEVENT
TRANSP:OPAQUE
DTEND;TZID=Australia/Perth:20191229T103000
UID:1749D685-47F1-4D53-B181-E832FFD05C89
DTSTAMP:20190717T050421Z
LOCATION:Gidgegannup 'A' 
DESCRIPTION:hilly4_20
URL;VALUE=URI:https://www.registernow.com.au/secure/Register.aspx?E=3598
 5
SEQUENCE:0
SUMMARY:Hilly Classic 4
LAST-MODIFIED:20191015T141818Z
DTSTART;TZID=Australia/Perth:20191229T073000
CREATED:20190717T050311Z
X-APPLE-TRAVEL-ADVISORY-BEHAVIOR:DISABLED
END:VEVENT
BEGIN:VEVENT
TRANSP:OPAQUE
DTEND;TZID=Australia/Perth:20200119T083000
UID:CC9CCB4A-F26A-4E64-B328-DE27DA8966CE
DTSTAMP:20190717T090055Z
LOCATION:Hopeland
DESCRIPTION:hop1_20\n
URL;VALUE=URI:https://atta.asn.au/program.html
SEQUENCE:0
SUMMARY:Hopeland 40
LAST-MODIFIED:20190717T090259Z
DTSTART;TZID=Australia/Perth:20200119T073000
CREATED:20190717T090041Z
X-APPLE-TRAVEL-ADVISORY-BEHAVIOR:AUTOMATIC
END:VEVENT
END:VCALENDAR
